BEGIN:VCALENDAR
VERSION:2.0
PRODID:-//Intand Corporation//Tandem//EN
METHOD:PUBLISH
BEGIN:VEVENT
DTSTAMP:20260423T021857Z
DTSTART:20260427T140000Z
DTEND:20260427T220000Z
TRANSP:TRANSPARENT
PRIORITY:0
SUMMARY:DMS Golf Meet vs TBA @ 10 Am
LOCATION:Douglas Golf Course
DESCRIPTION:Meet to be held in Douglas.  Port a potties serviced.\n\n\nGro
 ups:\nDMS/DHS Activities\nDMS Golf\nDMSCustodians\n\nSchools:\nDouglas Mid
 dle School\n\nLocation:\nDouglas Golf Course\n\nContacts:\nJay Rhoades\n\n
URL;VALUE=URI:https://ccsd1.tandem.co/index.php?type=view&action=event&id=
 96544
CREATED:20260420T204033Z
LAST-MODIFIED:20260420T204033Z
UID:event-96544-ccsd1@intand.com
END:VEVENT
END:VCALENDAR
