BEGIN:VCALENDAR
VERSION:2.0
PRODID:-//Intand Corporation//Tandem//EN
METHOD:PUBLISH
BEGIN:VEVENT
DTSTAMP:20260423T022006Z
DTSTART:20260420T230000Z
DTEND:20260421T010000Z
TRANSP:TRANSPARENT
PRIORITY:0
SUMMARY:Travel volleyball practice Beek
LOCATION:DMS Gym
DESCRIPTION:Travel Activity - they will need the volleyball nets and stand
 ards - See Hillary Beek for more information \n\n\nGroups:\nTravel Volleyb
 all Beek\nDRC Recreation Director\nDMSCustodians\n\nSchools:\nDouglas Recr
 eation Center\nDouglas Middle School\n\nLocation:\nDMS Gym\n\nContacts:\nB
 rad DeWitt\nHillary Beek\n\nTravel Activity - they will need the volleybal
 l nets and standards - See Hillary Beek for more information \n\n
URL;VALUE=URI:https://ccsd1.tandem.co/index.php?type=view&action=event&id=
 96452
CREATED:20260414T021724Z
LAST-MODIFIED:20260416T160623Z
UID:event_request-96452-ccsd1@intand.com
END:VEVENT
END:VCALENDAR
