BEGIN:VCALENDAR
VERSION:2.0
PRODID:-//Intand Corporation//Tandem//EN
METHOD:PUBLISH
BEGIN:VEVENT
DTSTAMP:20260423T021911Z
DTSTART:20260413T203000Z
DTEND:20260413T213000Z
TRANSP:TRANSPARENT
PRIORITY:0
SUMMARY:DHS Assembly WYTOP/ACT 
LOCATION:DHS Auditorium
DESCRIPTION: \n\nSee Colby Lynch for more information \n\n\nGroups:\nDHS-C
 ustodians\nDHS Office\nDHS Auditorium\n\nSchools:\nDouglas High School\n\n
 Location:\nDHS Auditorium\n\nContacts:\nColby Lynch\nRandy Gifford\n\nSee 
 Colby Lynch for more information \n\n
X-ALT-DESC;FMTTYPE=text/html:<!doctype html><html><body> </p><p>See Colby 
 Lynch for more information <br /><br />Groups:<br />DHS-Custodians<br />DH
 S Office<br />DHS Auditorium<br /><br />Schools:<br />Douglas High School<
 br /><br />Location:<br />DHS Auditorium<br /><br />Contacts:<br />Colby L
 ynch<br />Randy Gifford<br /><br />Notes:<br />See Colby Lynch for more in
 formation <br /></body></html>
URL;VALUE=URI:https://ccsd1.tandem.co/index.php?type=view&action=event&id=
 96326
CREATED:20260407T220304Z
LAST-MODIFIED:20260407T220304Z
UID:event-96326-ccsd1@intand.com
END:VEVENT
END:VCALENDAR
