BEGIN:VCALENDAR
VERSION:2.0
PRODID:-//Intand Corporation//Tandem//EN
METHOD:PUBLISH
BEGIN:VEVENT
DTSTAMP:20260423T022012Z
DTSTART:20260410T000000Z
DTEND:20260410T010000Z
TRANSP:TRANSPARENT
PRIORITY:0
SUMMARY:CCWaves Parent Meting @ 6 PM 
LOCATION:DRC Lobby
DESCRIPTION:Travel Activity- parent meeting only needs tables.  See Lindsa
 y Hanks for more information \n\n\nGroups:\nCCWaves Swim Club\nDRC Custodi
 an\nDRC Building Monitors\n\nSchools:\nDouglas Recreation Center\n\nLocati
 on:\nDRC Lobby\n\nContacts:\nBrad DeWitt\nLindsay Hanks\n\nTravel Activity
 - parent meeting only needs tables.  See Lindsay Hanks for more informatio
 n \n\n
URL;VALUE=URI:https://ccsd1.tandem.co/index.php?type=view&action=event&id=
 96225
CREATED:20260325T154446Z
LAST-MODIFIED:20260325T154446Z
UID:event-96225-ccsd1@intand.com
END:VEVENT
END:VCALENDAR
