BEGIN:VCALENDAR
VERSION:2.0
PRODID:-//Intand Corporation//Tandem//EN
METHOD:PUBLISH
BEGIN:VEVENT
DTSTAMP:20260423T021717Z
DTSTART:20260420T220000Z
DTEND:20260421T020000Z
TRANSP:TRANSPARENT
PRIORITY:0
SUMMARY:Jan Shatto Dance Rehearsal @ 4 PM  
LOCATION:DHS Choir Room\, DHS Band Room\, DHS Auditorium
DESCRIPTION:Public Activity - Jan Shatto 307-359-0142 would like the stage
  and the band and choir rooms for costume changes.  She will bring her own
  speaker for music but will need a mic.  Techs will need to be there for t
 he entire performance. \n\n\nGroups:\nDHS-Custodians\nDHS Auditorium\n\nSc
 hools:\nDouglas High School\n\nLocations:\nDHS Choir Room\nDHS Band Room\n
 DHS Auditorium\n\nContacts:\nRandy Gifford\n\nPublic Activity - Jan Shatto
  307-359-0142 would like the stage and the band and choir rooms for costum
 e changes.  She will bring her own speaker for music\n\n
URL;VALUE=URI:https://ccsd1.tandem.co/index.php?type=view&action=event&id=
 96194
CREATED:20260319T204445Z
LAST-MODIFIED:20260413T194022Z
UID:event-96194-ccsd1@intand.com
END:VEVENT
END:VCALENDAR
