BEGIN:VCALENDAR
VERSION:2.0
PRODID:-//Intand Corporation//Tandem//EN
METHOD:PUBLISH
BEGIN:VEVENT
DTSTAMP:20260423T021719Z
DTSTART:20260405T203000Z
DTEND:20260405T213000Z
TRANSP:TRANSPARENT
PRIORITY:0
SUMMARY:Travel Basketball Practice - Gilbreath
LOCATION:DUES Gym
DESCRIPTION:Travel Activity - they will need trash cans and the basketball
  Hoops.  See Brandon Gilbreath for more information. \n\n\nGroups:\nTravel
  Basketball Gilbreath\nDRC Recreation Director\nDUESCustodians\n\nSchools:
 \nDouglas Recreation Center\nDouglas Upper Elementary School\n\nLocation:\
 nDUES Gym\n\nContacts:\nBrandon Gilbreath\nBrad DeWitt\n\nTravel Activity 
 - they will need trash cans and the basketball Hoops.  See Brandon Gilbrea
 th for more information.\n\n
URL;VALUE=URI:https://ccsd1.tandem.co/index.php?type=view&action=event&id=
 96129
CREATED:20260316T215330Z
LAST-MODIFIED:20260317T171554Z
UID:event_request-96129-ccsd1@intand.com
END:VEVENT
END:VCALENDAR
